BEGIN:VCALENDAR
VERSION:2.0
PRODID:-//Squarespace Inc/Squarespace 6//v6//EN
BEGIN:VEVENT
UID:5c4838fb562fa723658e867d@squarespace.com
DTSTAMP:20190213T233403Z
DTSTART:20181231T223000Z
DTEND:20191223T233000Z
SUMMARY:Women in Tax Discussion Group 2019 | Bi-Monthly
GEO:-33.872095;151.209658
LOCATION:Brown Wright Stein Lawyers\, Level 6\, 179 Elizabeth Street\, Sydn
 ey\, NSW\, 2000\, Australia
END:VEVENT
END:VCALENDAR
