BEGIN:VCALENDAR
VERSION:2.0
PRODID:-//Squarespace Inc/Squarespace 6//v6//EN
BEGIN:VEVENT
UID:5c0724616d2a7345e6943446@squarespace.com
DTSTAMP:20190213T230422Z
DTSTART:20190213T221500Z
DTEND:20190213T233000Z
SUMMARY:SEMINAR | Preparing for a Labor Government - SOLD OUT 
GEO:-33.872095;151.209658
LOCATION:Brown Wright Stein Lawyers\, Level 6\, 179 Elizabeth Street\, Sydn
 ey\, NSW\, 2000\, Australia
END:VEVENT
END:VCALENDAR
