BEGIN:VCALENDAR
VERSION:2.0
PRODID:-//Squarespace Inc/Squarespace 6//v6//EN
BEGIN:VEVENT
UID:5c47eed6b91c9157001a36a2@squarespace.com
DTSTAMP:20190213T233520Z
DTSTART:20190219T061500Z
DTEND:20190219T073000Z
SUMMARY:SEMINAR | Second date! Preparing for a Labor Government - SOLD OUT
GEO:-33.872095;151.209658
LOCATION:Brown Wright Stein Lawyers\, Level 6\, 179 Elizabeth Street\, Sydn
 ey\, NSW\, 2000\, Australia
END:VEVENT
END:VCALENDAR
